BEGIN:VCALENDAR
VERSION:2.0
PRODID:-//Falken Bildungs- und Freizeitwerk Bergisch Land - ECPv6.0.1.1//NONSGML v1.0//EN
CALSCALE:GREGORIAN
METHOD:PUBLISH
X-WR-CALNAME:Falken Bildungs- und Freizeitwerk Bergisch Land
X-ORIGINAL-URL:https://falken-bildungswerk.de
X-WR-CALDESC:Events for Falken Bildungs- und Freizeitwerk Bergisch Land
REFRESH-INTERVAL;VALUE=DURATION:PT1H
X-Robots-Tag:noindex
X-PUBLISHED-TTL:PT1H
BEGIN:VTIMEZONE
TZID:Europe/Berlin
BEGIN:DAYLIGHT
TZOFFSETFROM:+0100
TZOFFSETTO:+0200
TZNAME:CEST
DTSTART:20260329T010000
END:DAYLIGHT
BEGIN:STANDARD
TZOFFSETFROM:+0200
TZOFFSETTO:+0100
TZNAME:CET
DTSTART:20261025T010000
END:STANDARD
END:VTIMEZONE
BEGIN:VEVENT
DTSTART;TZID=Europe/Berlin:20260129T190000
DTEND;TZID=Europe/Berlin:20260129T213000
DTSTAMP:20260425T150029
CREATED:20251130T192921Z
LAST-MODIFIED:20251130T213409Z
UID:1058-1769713200-1769722200@falken-bildungswerk.de
SUMMARY:Nathan-ism - Dokumentarfilm zum Gedenktag für die Opfer des Nationalsozialismus
DESCRIPTION:Das Zentrum für verfolgte Künste zeigt in Kooperation mit dem Max-Leven-Zentrum Solingen e.V.\, dem Falken Bildungs- und Freizeitwerk Bergisch Land und dem Evangelischen Kirchenkreis Solingen einen Dokumentarfilm über einen jüdischen Künstler\, dessen Erinnerungen an Begegnungen mit NS-Tätern ihn sein Leben lang beschäftigten.\n \n\nAm Ende des Zweiten Weltkriegs trat der damals 18-jährige Nathan Hilu\, Sohn syrisch-jüdischer Einwanderer in New York\, in die US-Army ein und wurde beim Nürnberger Hauptkriegsverbrecherprozess als Wachsoldat eingesetzt. Diese Erfahrung inspirierte ihn ein Leben lang zu künstlerischen Arbeiten. Mit seinem Film Nathan-ism entwirft der Regisseur Elan Golod ein dokumentarisches Porträt des alternden Künstlers \nim Spannungsfeld von Archiv und Erfindung.‍\n \nElan Golod ist ein israelisch-amerikanischer Filmemacher. Er lebt und arbeitet in New York. Sein preisgekrönter Film Nathan-ism lief bereits bei mehreren Festivals und hatte in Nürnberg seine Europapremiere. Im Anschluss zeigen wir ein kurzes aufgezeichnetes Gespräch mit Dr. Jürgen Kaumkötter und dem Regisseur zur Rolle der Kunst in der Erinnerung an den Holocaust.
URL:https://falken-bildungswerk.de/event/onlineworkshop-frauen-im-rechtsaussenspektrum/
LOCATION:Web-Seminar via Zoom
CATEGORIES:Web-Seminare,Workshop
ORGANIZER;CN="Falken%20Bildungs-%20und%20Freizeitwerk%20Bergisch%20Land%20e.V.":MAILTO:buero@Falken-Bildungswerk.de
END:VEVENT
END:VCALENDAR