BEGIN:VCALENDAR
VERSION:2.0
PRODID:-//Falken Bildungs- und Freizeitwerk Bergisch Land - ECPv6.0.1.1//NONSGML v1.0//EN
CALSCALE:GREGORIAN
METHOD:PUBLISH
X-WR-CALNAME:Falken Bildungs- und Freizeitwerk Bergisch Land
X-ORIGINAL-URL:https://falken-bildungswerk.de
X-WR-CALDESC:Events for Falken Bildungs- und Freizeitwerk Bergisch Land
REFRESH-INTERVAL;VALUE=DURATION:PT1H
X-Robots-Tag:noindex
X-PUBLISHED-TTL:PT1H
BEGIN:VTIMEZONE
TZID:Europe/Berlin
BEGIN:DAYLIGHT
TZOFFSETFROM:+0100
TZOFFSETTO:+0200
TZNAME:CEST
DTSTART:20250330T010000
END:DAYLIGHT
BEGIN:STANDARD
TZOFFSETFROM:+0200
TZOFFSETTO:+0100
TZNAME:CET
DTSTART:20251026T010000
END:STANDARD
END:VTIMEZONE
BEGIN:VEVENT
DTSTART;TZID=Europe/Berlin:20251207T140000
DTEND;TZID=Europe/Berlin:20251207T170000
DTSTAMP:20260425T164802
CREATED:20251130T211151Z
LAST-MODIFIED:20251130T211151Z
UID:1060-1765116000-1765126800@falken-bildungswerk.de
SUMMARY:Lesung: Lilian Muscutt liest aus Wupperschatten"
DESCRIPTION:Auf das Publikum warten Spannung\, Zeitgeschichte und gute Unterhaltung. Gemeinsam machen wir in einem verfallenen Kotten an der Wupper eine unheimliche Entdeckung und begeben uns lauschend auf „Spurensuche“ an Solinger Schauplätzen. Zwischen den Kapiteln verrät die Solinger Autorin interessante Hintergründe zu ihrem dritten Roman\, ihren Recherchen und ihren Erfahrungen als Selbstverlegerin.\n \nDer Krimi beleuchtet in Rückblenden sowohl die Solinger Schleifergeschichte als auch den erbitterten Widerstand\, den Menschen aus dem Bergischen Land gegen den Nazi-Terror 1933-1945 leisteten. Ein aktuelles Thema\, da sich der Tag der Befreiung in diesem Jahr zum 80. Maljährte. Muscutt ist Mitglied im Verein Max-Leven-Zentrum Solingen e.V.: Was das Max-Leven-Zentrum mit ihren Recherchen zu tun hat? Das verrät sie uns bei ihrer Lesung.\n \nDie Lesung findet in den neueröffneten Räumen der Bildungs- und Gedenkstätte „Max-Leven-Zentrum Solingen“ statt. In mitten der Ausstellung stehen aus Platzgründen lediglich Sitzhocker und Museumsklapphocker\, aber keine Stühle mit Rückenlehne zur Verfügung. \nAufgrund des begrenzten Platzes bitten wir um Anmeldung unter info@max-leven-zentrum.de \n 
URL:https://falken-bildungswerk.de/event/lesung-lilian-muscutt-liest-aus-wupperschatten/
LOCATION:Gedenkstätte Max-Leven-Zentrum Solingen\, Max-Leven-Gasse 7\, Solingen\, 42651\, Germany
CATEGORIES:Web-Seminare,Workshop
END:VEVENT
BEGIN:VEVENT
DTSTART;TZID=Europe/Berlin:20251210T183000
DTEND;TZID=Europe/Berlin:20251210T210000
DTSTAMP:20260425T164802
CREATED:20251130T191915Z
LAST-MODIFIED:20251130T191915Z
UID:1056-1765391400-1765400400@falken-bildungswerk.de
SUMMARY:Onlineworkshop "This memes war"
DESCRIPTION:Eine demokratiefeindliche Mosaik-Rechte strebt mittels Memes nach der Herrschaft über Deutungen und Definitionen – ihr Ziel ist eine autoritäre Gesellschaftsordnung. Warum zählen vor allem in sozialen Netzwerken Neofaschist*innen zu den Gewinnern der Aufmerksamkeitsökonomie und warum ermuntern Memes Menschen zum Mitmachen? In unserem interaktiven Online Workshop gehen wir der Sache gemeinsam auf den Grund und sprechen über Gegenstrategien. \nVincent K. ist Professor für Soziale Arbeit an einer Hochschule in NRW   \nDer Online-Workshop findet via Zoom statt. Die Einwahldaten erhaltet Ihr nach vorheriger Anmeldung (unter Nennung Eures/Ihres Vor-/Nachname und Mailadresse) an buero@falken-bildungswerk.de. Es können nur Anmeldung bis zum 10.12.2025\, 16.00 Uhr entgegen genommen werden. \n 
URL:https://falken-bildungswerk.de/event/onlineworkshop-this-memes-war/
LOCATION:Web-Seminar via Zoom
CATEGORIES:Web-Seminare,Workshop
ORGANIZER;CN="Falken%20Bildungs-%20und%20Freizeitwerk%20Bergisch%20Land%20e.V.":MAILTO:buero@Falken-Bildungswerk.de
END:VEVENT
BEGIN:VEVENT
DTSTART;TZID=Europe/Berlin:20251222T183000
DTEND;TZID=Europe/Berlin:20251222T210000
DTSTAMP:20260425T164802
CREATED:20251130T214229Z
LAST-MODIFIED:20251130T214229Z
UID:1073-1766428200-1766437200@falken-bildungswerk.de
SUMMARY:Onlineworkshop Frauen im Rechtsaußenspektrum
DESCRIPTION:Eine selbsternannte Mosaik-Rechte dringt systematisch in Sozialräume und Lebenswelten junger Menschen ein. Eine zentrale Rolle spielen weibliche Aktivistinnen\, die als Influencerinnen extrem rechte Ideologie zielgruppengerecht bewerben: Rassismus\, Sexismus und Autoritarismus inklusive. Wen wollen rechte Frauen erreichen – und wie genau? In unserem interaktiven Workshop versuchen wir\, gemeinsam Antworten auf diese Frage zu finden.\nVincent K. ist Professor für Soziale Arbeit an einer Hochschule in NRW   \nDer Online-Workshop findet via Zoom statt. Die Einwahldaten erhaltet Ihr nach vorheriger Anmeldung (unter Nennung Eures/Ihres Vor-/Nachname und Mailadresse) an buero@falken-bildungswerk.de. Es können nur Anmeldung bis zum 22.12.2025\, 16.00 Uhr entgegen genommen werden. \n 
URL:https://falken-bildungswerk.de/event/onlineworkshop-frauen-im-rechtsaussenspektrum-2/
LOCATION:Web-Seminar via Zoom
CATEGORIES:Web-Seminare,Workshop
END:VEVENT
END:VCALENDAR